Package: bigPint Version: 1.8.0 Command: /Library/Frameworks/R.framework/Versions/Current/Resources/bin/R CMD build --keep-empty-dirs --no-resave-data bigPint StartedAt: 2021-10-14 10:49:04 -0400 (Thu, 14 Oct 2021) EndedAt: 2021-10-14 10:50:17 -0400 (Thu, 14 Oct 2021) EllapsedTime: 73.4 seconds RetCode: 0 Status: OK PackageFile: bigPint_1.8.0.tar.gz PackageFileSize: 5.558 MiB