Package: arrayQualityMetrics Version: 3.48.0 Command: chmod a+r arrayQualityMetrics -R && C:\Users\biocbuild\bbs-3.13-bioc\R\bin\R.exe CMD build --keep-empty-dirs --no-resave-data arrayQualityMetrics StartedAt: 2021-10-14 11:47:01 -0400 (Thu, 14 Oct 2021) EndedAt: 2021-10-14 11:56:11 -0400 (Thu, 14 Oct 2021) EllapsedTime: 549.7 seconds RetCode: 0 Status: OK PackageFile: arrayQualityMetrics_3.48.0.tar.gz PackageFileSize: 589.2 KiB