Package: anota2seq Version: 1.14.0 Command: /home/biocbuild/bbs-3.13-bioc/R/bin/R CMD INSTALL anota2seq StartedAt: 2021-10-14 06:21:52 -0400 (Thu, 14 Oct 2021) EndedAt: 2021-10-14 06:22:22 -0400 (Thu, 14 Oct 2021) EllapsedTime: 29.5 seconds RetCode: 0 Status: OK