Package: anota2seq Version: 1.14.0 Command: /home/biocbuild/bbs-3.13-bioc/R/bin/R CMD build --keep-empty-dirs --no-resave-data anota2seq StartedAt: 2021-10-14 06:42:06 -0400 (Thu, 14 Oct 2021) EndedAt: 2021-10-14 06:44:31 -0400 (Thu, 14 Oct 2021) EllapsedTime: 144.2 seconds RetCode: 0 Status: OK PackageFile: anota2seq_1.14.0.tar.gz PackageFileSize: 999.9 KiB