Package: alevinQC Version: 1.8.0 Command: C:\cygwin\bin\curl.exe -O http://155.52.207.165/BBS/3.13/bioc/src/contrib/alevinQC_1.8.0.tar.gz && rm -rf alevinQC.buildbin-libdir && mkdir alevinQC.buildbin-libdir && C:\Users\biocbuild\bbs-3.13-bioc\R\bin\R.exe CMD INSTALL --merge-multiarch --build --library=alevinQC.buildbin-libdir alevinQC_1.8.0.tar.gz && C:\Users\biocbuild\bbs-3.13-bioc\R\bin\R.exe CMD INSTALL alevinQC_1.8.0.zip && rm alevinQC_1.8.0.tar.gz alevinQC_1.8.0.zip StartedAt: 2021-10-14 10:09:46 -0400 (Thu, 14 Oct 2021) EndedAt: 2021-10-14 10:10:54 -0400 (Thu, 14 Oct 2021) EllapsedTime: 67.5 seconds RetCode: 0 Status: OK