Package: TnT Version: 1.14.0 Command: /home/biocbuild/bbs-3.13-bioc/R/bin/R CMD check --install=check:TnT.install-out.txt --library=/home/biocbuild/bbs-3.13-bioc/R/library --no-vignettes --timings TnT_1.14.0.tar.gz StartedAt: 2021-10-14 11:53:26 -0400 (Thu, 14 Oct 2021) EndedAt: 2021-10-14 11:54:54 -0400 (Thu, 14 Oct 2021) EllapsedTime: 87.8 seconds RetCode: 0 Status: OK CheckDir: TnT.Rcheck Warnings: 0