Package: TissueEnrich Version: 1.12.0 Command: chmod a+r TissueEnrich -R && C:\Users\biocbuild\bbs-3.13-bioc\R\bin\R.exe CMD build --keep-empty-dirs --no-resave-data TissueEnrich StartedAt: 2021-10-14 18:48:44 -0400 (Thu, 14 Oct 2021) EndedAt: 2021-10-14 18:49:38 -0400 (Thu, 14 Oct 2021) EllapsedTime: 53.8 seconds RetCode: 0 Status: OK PackageFile: TissueEnrich_1.12.0.tar.gz PackageFileSize: 3.295 MiB