Package: TFEA.ChIP Version: 1.12.0 Command: /Library/Frameworks/R.framework/Versions/Current/Resources/bin/R CMD check --install=check:TFEA.ChIP.install-out.txt --library=/Library/Frameworks/R.framework/Versions/Current/Resources/library --no-vignettes --timings TFEA.ChIP_1.12.0.tar.gz StartedAt: 2021-10-15 00:41:34 -0400 (Fri, 15 Oct 2021) EndedAt: 2021-10-15 00:49:12 -0400 (Fri, 15 Oct 2021) EllapsedTime: 458.3 seconds RetCode: 0 Status: OK CheckDir: TFEA.ChIP.Rcheck Warnings: 0