Package: TFEA.ChIP Version: 1.12.0 Command: rm -rf TFEA.ChIP.buildbin-libdir && mkdir TFEA.ChIP.buildbin-libdir && /Users/biocbuild/BBS/utils/build-universal.sh TFEA.ChIP_1.12.0.tar.gz /Library/Frameworks/R.framework/Versions/Current/Resources/bin/R TFEA.ChIP.buildbin-libdir StartedAt: 2021-10-15 04:13:05 -0400 (Fri, 15 Oct 2021) EndedAt: 2021-10-15 04:14:17 -0400 (Fri, 15 Oct 2021) EllapsedTime: 71.7 seconds RetCode: 0 Status: OK PackageFile: TFEA.ChIP_1.12.0.tgz PackageFileSize: 3.922 MiB