Package: SigFuge Version: 1.30.0 Command: /home/biocbuild/bbs-3.13-bioc/R/bin/R CMD check --install=check:SigFuge.install-out.txt --library=/home/biocbuild/bbs-3.13-bioc/R/library --no-vignettes --timings SigFuge_1.30.0.tar.gz StartedAt: 2021-10-14 11:37:31 -0400 (Thu, 14 Oct 2021) EndedAt: 2021-10-14 11:39:11 -0400 (Thu, 14 Oct 2021) EllapsedTime: 99.7 seconds RetCode: 0 Status: OK CheckDir: SigFuge.Rcheck Warnings: 0