Package: SLGI Version: 1.52.0 Command: /Library/Frameworks/R.framework/Versions/Current/Resources/bin/R CMD check --install=check:SLGI.install-out.txt --library=/Library/Frameworks/R.framework/Versions/Current/Resources/library --no-vignettes --timings SLGI_1.52.0.tar.gz StartedAt: 2021-10-15 00:08:20 -0400 (Fri, 15 Oct 2021) EndedAt: 2021-10-15 00:12:46 -0400 (Fri, 15 Oct 2021) EllapsedTime: 266.0 seconds RetCode: 0 Status: OK CheckDir: SLGI.Rcheck Warnings: 0