Package: SGSeq Version: 1.26.0 Command: /Library/Frameworks/R.framework/Versions/Current/Resources/bin/R CMD check --install=check:SGSeq.install-out.txt --library=/Library/Frameworks/R.framework/Versions/Current/Resources/library --no-vignettes --timings SGSeq_1.26.0.tar.gz StartedAt: 2021-10-14 23:57:16 -0400 (Thu, 14 Oct 2021) EndedAt: 2021-10-15 00:11:23 -0400 (Fri, 15 Oct 2021) EllapsedTime: 847.8 seconds RetCode: 0 Status: OK CheckDir: SGSeq.Rcheck Warnings: 0