Package: SEPIRA Version: 1.12.0 Command: /home/biocbuild/bbs-3.13-bioc/R/bin/R CMD build --keep-empty-dirs --no-resave-data SEPIRA StartedAt: 2021-10-14 08:23:53 -0400 (Thu, 14 Oct 2021) EndedAt: 2021-10-14 08:24:03 -0400 (Thu, 14 Oct 2021) EllapsedTime: 10.5 seconds RetCode: 0 Status: OK PackageFile: SEPIRA_1.12.0.tar.gz PackageFileSize: 5.08 MiB