git_url: https://git.bioconductor.org/packages/SEPIRA git_branch: RELEASE_3_13 git_last_commit: 6fe3b44 git_last_commit_date: 2021-05-19 12:34:15 -0400 (Wed, 19 May 2021) Package: SEPIRA Version: 1.12.0 Maintainer: Yuting Chen MaintainerEmail: cytwarmmay at hotmail.com