Package: RNAinteract Version: 1.40.0 Command: /home/biocbuild/bbs-3.13-bioc/R/bin/R CMD build --keep-empty-dirs --no-resave-data RNAinteract StartedAt: 2021-10-14 08:14:01 -0400 (Thu, 14 Oct 2021) EndedAt: 2021-10-14 08:14:53 -0400 (Thu, 14 Oct 2021) EllapsedTime: 52.8 seconds RetCode: 0 Status: OK PackageFile: RNAinteract_1.40.0.tar.gz PackageFileSize: 340.2 KiB