git_url: https://git.bioconductor.org/packages/RIVER git_branch: RELEASE_3_13 git_last_commit: ed4a4d4 git_last_commit_date: 2021-05-19 12:27:02 -0400 (Wed, 19 May 2021) Package: RIVER Version: 1.16.0 Maintainer: Yungil Kim MaintainerEmail: ipw012 at gmail.com