Package: RDRToolbox Version: 1.42.0 Command: /Library/Frameworks/R.framework/Versions/Current/Resources/bin/R CMD build --keep-empty-dirs --no-resave-data RDRToolbox StartedAt: 2021-10-14 14:16:58 -0400 (Thu, 14 Oct 2021) EndedAt: 2021-10-14 14:17:47 -0400 (Thu, 14 Oct 2021) EllapsedTime: 48.6 seconds RetCode: 0 Status: OK PackageFile: RDRToolbox_1.42.0.tar.gz PackageFileSize: 226.8 KiB