Package: RDRToolbox Version: 1.42.0 Command: rm -rf RDRToolbox.buildbin-libdir && mkdir RDRToolbox.buildbin-libdir && /Users/biocbuild/BBS/utils/build-universal.sh RDRToolbox_1.42.0.tar.gz /Library/Frameworks/R.framework/Versions/Current/Resources/bin/R RDRToolbox.buildbin-libdir StartedAt: 2021-10-15 03:40:35 -0400 (Fri, 15 Oct 2021) EndedAt: 2021-10-15 03:41:46 -0400 (Fri, 15 Oct 2021) EllapsedTime: 70.3 seconds RetCode: 0 Status: OK PackageFile: RDRToolbox_1.42.0.tgz PackageFileSize: 223.8 KiB