Package: QuartPAC Version: 1.24.0 Command: C:\cygwin\bin\curl.exe -O http://155.52.207.165/BBS/3.13/bioc/src/contrib/QuartPAC_1.24.0.tar.gz && rm -rf QuartPAC.buildbin-libdir && mkdir QuartPAC.buildbin-libdir && C:\Users\biocbuild\bbs-3.13-bioc\R\bin\R.exe CMD INSTALL --merge-multiarch --build --library=QuartPAC.buildbin-libdir QuartPAC_1.24.0.tar.gz && C:\Users\biocbuild\bbs-3.13-bioc\R\bin\R.exe CMD INSTALL QuartPAC_1.24.0.zip && rm QuartPAC_1.24.0.tar.gz QuartPAC_1.24.0.zip StartedAt: 2021-10-14 09:07:41 -0400 (Thu, 14 Oct 2021) EndedAt: 2021-10-14 09:08:54 -0400 (Thu, 14 Oct 2021) EllapsedTime: 72.6 seconds RetCode: 0 Status: OK