git_url: https://git.bioconductor.org/packages/PathoStat git_branch: RELEASE_3_13 git_last_commit: 9d6981f git_last_commit_date: 2021-05-19 12:23:43 -0400 (Wed, 19 May 2021) Package: PathoStat Version: 1.18.0 Maintainer: Solaiappan Manimaran MaintainerEmail: manimaran_1975 at hotmail.com