Package: PPInfer Version: 1.18.0 Command: rm -rf PPInfer.buildbin-libdir && mkdir PPInfer.buildbin-libdir && /Users/biocbuild/BBS/utils/build-universal.sh PPInfer_1.18.0.tar.gz /Library/Frameworks/R.framework/Versions/Current/Resources/bin/R PPInfer.buildbin-libdir StartedAt: 2021-10-15 03:30:58 -0400 (Fri, 15 Oct 2021) EndedAt: 2021-10-15 03:31:56 -0400 (Fri, 15 Oct 2021) EllapsedTime: 57.9 seconds RetCode: 0 Status: OK PackageFile: PPInfer_1.18.0.tgz PackageFileSize: 298.8 KiB