git_url: https://git.bioconductor.org/packages/POMA git_branch: RELEASE_3_13 git_last_commit: a990e43 git_last_commit_date: 2021-05-19 12:54:15 -0400 (Wed, 19 May 2021) Package: POMA Version: 1.2.0 Maintainer: Pol Castellano-Escuder MaintainerEmail: polcaes at gmail.com