Package: PADOG Version: 1.34.0 Command: chmod a+r PADOG -R && C:\Users\biocbuild\bbs-3.13-bioc\R\bin\R.exe CMD build --keep-empty-dirs --no-resave-data PADOG StartedAt: 2021-10-14 16:30:49 -0400 (Thu, 14 Oct 2021) EndedAt: 2021-10-14 16:34:05 -0400 (Thu, 14 Oct 2021) EllapsedTime: 196.0 seconds RetCode: 0 Status: OK PackageFile: PADOG_1.34.0.tar.gz PackageFileSize: 264.1 KiB