Package: OncoScore Version: 1.20.0 Command: /Library/Frameworks/R.framework/Versions/Current/Resources/bin/R CMD check --install=check:OncoScore.install-out.txt --library=/Library/Frameworks/R.framework/Versions/Current/Resources/library --no-vignettes --timings OncoScore_1.20.0.tar.gz StartedAt: 2021-10-14 21:55:11 -0400 (Thu, 14 Oct 2021) EndedAt: 2021-10-14 21:57:34 -0400 (Thu, 14 Oct 2021) EllapsedTime: 143.2 seconds RetCode: 0 Status: OK CheckDir: OncoScore.Rcheck Warnings: 0