Package: Onassis Version: 1.14.0 Command: chmod a+r Onassis -R && C:\Users\biocbuild\bbs-3.13-bioc\R\bin\R.exe --arch x64 CMD build --keep-empty-dirs --no-resave-data Onassis StartedAt: 2021-10-14 16:14:52 -0400 (Thu, 14 Oct 2021) EndedAt: 2021-10-14 16:15:09 -0400 (Thu, 14 Oct 2021) EllapsedTime: 17.5 seconds RetCode: 1 Status: ERROR PackageFile: None PackageFileSize: NA