Package: NanoStringQCPro Version: 1.24.0 Command: /home/biocbuild/bbs-3.13-bioc/R/bin/R CMD INSTALL NanoStringQCPro StartedAt: 2021-10-14 06:10:25 -0400 (Thu, 14 Oct 2021) EndedAt: 2021-10-14 06:10:40 -0400 (Thu, 14 Oct 2021) EllapsedTime: 15.8 seconds RetCode: 0 Status: OK