Package: NTW Version: 1.42.0 Command: /home/biocbuild/bbs-3.13-bioc/R/bin/R CMD INSTALL NTW StartedAt: 2021-10-14 06:03:45 -0400 (Thu, 14 Oct 2021) EndedAt: 2021-10-14 06:04:03 -0400 (Thu, 14 Oct 2021) EllapsedTime: 18.1 seconds RetCode: 0 Status: OK