Package: NTW Version: 1.42.0 Command: rm -rf NTW.buildbin-libdir && mkdir NTW.buildbin-libdir && /Users/biocbuild/BBS/utils/build-universal.sh NTW_1.42.0.tar.gz /Library/Frameworks/R.framework/Versions/Current/Resources/bin/R NTW.buildbin-libdir StartedAt: 2021-10-15 03:19:20 -0400 (Fri, 15 Oct 2021) EndedAt: 2021-10-15 03:20:24 -0400 (Fri, 15 Oct 2021) EllapsedTime: 64.6 seconds RetCode: 0 Status: OK PackageFile: NTW_1.42.0.tgz PackageFileSize: 517.5 KiB