Package: MineICA Version: 1.32.0 Command: rm -rf MineICA.buildbin-libdir && mkdir MineICA.buildbin-libdir && /Users/biocbuild/BBS/utils/build-universal.sh MineICA_1.32.0.tar.gz /Library/Frameworks/R.framework/Versions/Current/Resources/bin/R MineICA.buildbin-libdir StartedAt: 2021-10-15 03:07:00 -0400 (Fri, 15 Oct 2021) EndedAt: 2021-10-15 03:08:15 -0400 (Fri, 15 Oct 2021) EllapsedTime: 74.6 seconds RetCode: 0 Status: OK PackageFile: MineICA_1.32.0.tgz PackageFileSize: 2.242 MiB