Welcome to mirrors.dotsrc.org

All our mirrors of open source software are available via http, https, ftp and an onion service. More information about our mirrors including statistics and contact information is available on our mirror info pages.

For information about dotsrc.org and our other services please go to our website.

Index of /bioconductor/checkResults/3.13/bioc-LATEST/MatrixGenerics/raw-results/machv2/

File Name  ↓ File Size  ↓ Date  ↓ 
--
1.2 KiB2021-10-15 19:06:41
586 B2021-10-15 19:06:41
788 B2021-10-15 19:06:41
463 B2021-10-15 19:06:41
3.4 KiB2021-10-15 19:06:41
503 B2021-10-15 19:06:41
994 B2021-10-15 19:06:41
299 B2021-10-15 19:06:41