Package: MMDiff2 Version: 1.20.0 Command: C:\Users\biocbuild\bbs-3.13-bioc\R\bin\R.exe --arch i386 CMD INSTALL --no-multiarch MMDiff2 StartedAt: 2021-10-14 10:15:43 -0400 (Thu, 14 Oct 2021) EndedAt: 2021-10-14 10:16:39 -0400 (Thu, 14 Oct 2021) EllapsedTime: 55.7 seconds RetCode: 0 Status: OK