Package: MAIT Version: 1.26.0 Command: C:\cygwin\bin\curl.exe -O http://155.52.207.165/BBS/3.13/bioc/src/contrib/MAIT_1.26.0.tar.gz && rm -rf MAIT.buildbin-libdir && mkdir MAIT.buildbin-libdir && C:\Users\biocbuild\bbs-3.13-bioc\R\bin\R.exe CMD INSTALL --merge-multiarch --build --library=MAIT.buildbin-libdir MAIT_1.26.0.tar.gz && C:\Users\biocbuild\bbs-3.13-bioc\R\bin\R.exe CMD INSTALL MAIT_1.26.0.zip && rm MAIT_1.26.0.tar.gz MAIT_1.26.0.zip StartedAt: 2021-10-14 10:06:43 -0400 (Thu, 14 Oct 2021) EndedAt: 2021-10-14 10:10:24 -0400 (Thu, 14 Oct 2021) EllapsedTime: 220.3 seconds RetCode: 0 Status: OK