Package: MADSEQ Version: 1.18.0 Command: chmod a+r MADSEQ -R && C:\Users\biocbuild\bbs-3.13-bioc\R\bin\R.exe CMD build --keep-empty-dirs --no-resave-data MADSEQ StartedAt: 2021-10-14 15:20:13 -0400 (Thu, 14 Oct 2021) EndedAt: 2021-10-14 15:22:06 -0400 (Thu, 14 Oct 2021) EllapsedTime: 113.0 seconds RetCode: 0 Status: OK PackageFile: MADSEQ_1.18.0.tar.gz PackageFileSize: 1.87 MiB