Package: LPE Version: 1.66.0 Command: rm -rf LPE.buildbin-libdir && mkdir LPE.buildbin-libdir && C:\Users\biocbuild\bbs-3.13-bioc\R\bin\R.exe CMD INSTALL --merge-multiarch --build --library=LPE.buildbin-libdir LPE_1.66.0.tar.gz StartedAt: 2021-10-15 10:06:59 -0400 (Fri, 15 Oct 2021) EndedAt: 2021-10-15 10:08:27 -0400 (Fri, 15 Oct 2021) EllapsedTime: 88.5 seconds RetCode: 0 Status: OK PackageFile: LPE_1.66.0.zip PackageFileSize: 410.9 KiB