Package: KinSwingR Version: 1.10.0 Command: rm -rf KinSwingR.buildbin-libdir && mkdir KinSwingR.buildbin-libdir && C:\Users\biocbuild\bbs-3.13-bioc\R\bin\R.exe CMD INSTALL --merge-multiarch --build --library=KinSwingR.buildbin-libdir KinSwingR_1.10.0.tar.gz StartedAt: 2021-10-15 10:02:36 -0400 (Fri, 15 Oct 2021) EndedAt: 2021-10-15 10:04:04 -0400 (Fri, 15 Oct 2021) EllapsedTime: 87.9 seconds RetCode: 0 Status: OK PackageFile: KinSwingR_1.10.0.zip PackageFileSize: 623.9 KiB