Package: KBoost Version: 1.0.0 Command: /home/biocbuild/bbs-3.13-bioc/R/bin/R CMD build --keep-empty-dirs --no-resave-data KBoost StartedAt: 2021-10-14 07:34:42 -0400 (Thu, 14 Oct 2021) EndedAt: 2021-10-14 07:34:50 -0400 (Thu, 14 Oct 2021) EllapsedTime: 7.9 seconds RetCode: 0 Status: OK PackageFile: KBoost_1.0.0.tar.gz PackageFileSize: 503.3 KiB