git_url: https://git.bioconductor.org/packages/IsoGeneGUI git_branch: RELEASE_3_13 git_last_commit: 3b72011 git_last_commit_date: 2021-05-19 11:45:55 -0400 (Wed, 19 May 2021) Package: IsoGeneGUI Version: 2.28.0 Maintainer: Setia Pramana MaintainerEmail: setia.pramana at ki.se