Package: IWTomics Version: 1.16.0 Command: C:\Users\biocbuild\bbs-3.13-bioc\R\bin\R.exe CMD check --force-multiarch --install=check:IWTomics.install-out.txt --library=C:\Users\biocbuild\bbs-3.13-bioc\R\library --no-vignettes --timings IWTomics_1.16.0.tar.gz StartedAt: 2021-10-15 01:00:25 -0400 (Fri, 15 Oct 2021) EndedAt: 2021-10-15 01:06:23 -0400 (Fri, 15 Oct 2021) EllapsedTime: 358.5 seconds RetCode: 0 Status: WARNINGS CheckDir: IWTomics.Rcheck Warnings: 1