Package: IMPCdata Version: 1.28.0 Command: rm -rf IMPCdata.buildbin-libdir && mkdir IMPCdata.buildbin-libdir && C:\Users\biocbuild\bbs-3.13-bioc\R\bin\R.exe CMD INSTALL --merge-multiarch --build --library=IMPCdata.buildbin-libdir IMPCdata_1.28.0.tar.gz StartedAt: 2021-10-15 09:55:13 -0400 (Fri, 15 Oct 2021) EndedAt: 2021-10-15 09:56:44 -0400 (Fri, 15 Oct 2021) EllapsedTime: 91.6 seconds RetCode: 0 Status: OK PackageFile: IMPCdata_1.28.0.zip PackageFileSize: 231.7 KiB