Package: HelloRanges Version: 1.18.0 Command: /home/biocbuild/bbs-3.13-bioc/R/bin/R CMD check --install=check:HelloRanges.install-out.txt --library=/home/biocbuild/bbs-3.13-bioc/R/library --no-vignettes --timings HelloRanges_1.18.0.tar.gz StartedAt: 2021-10-14 10:09:37 -0400 (Thu, 14 Oct 2021) EndedAt: 2021-10-14 10:14:49 -0400 (Thu, 14 Oct 2021) EllapsedTime: 312.4 seconds RetCode: 0 Status: WARNINGS CheckDir: HelloRanges.Rcheck Warnings: 1