Package: HTSeqGenie Version: 4.22.0 Command: /home/biocbuild/bbs-3.13-bioc/R/bin/R CMD INSTALL HTSeqGenie StartedAt: 2021-10-14 06:33:32 -0400 (Thu, 14 Oct 2021) EndedAt: 2021-10-14 06:34:16 -0400 (Thu, 14 Oct 2021) EllapsedTime: 44.1 seconds RetCode: 0 Status: OK