Package: HPAStainR Version: 1.2.1 Command: /Library/Frameworks/R.framework/Versions/Current/Resources/bin/R CMD check --install=check:HPAStainR.install-out.txt --library=/Library/Frameworks/R.framework/Versions/Current/Resources/library --no-vignettes --timings HPAStainR_1.2.1.tar.gz StartedAt: 2021-10-14 20:03:38 -0400 (Thu, 14 Oct 2021) EndedAt: 2021-10-14 20:06:40 -0400 (Thu, 14 Oct 2021) EllapsedTime: 181.9 seconds RetCode: 0 Status: OK CheckDir: HPAStainR.Rcheck Warnings: 0