Package: GenomicScores Version: 2.4.0 Command: C:\Users\biocbuild\bbs-3.13-bioc\R\bin\R.exe CMD check --force-multiarch --install=check:GenomicScores.install-out.txt --library=C:\Users\biocbuild\bbs-3.13-bioc\R\library --no-vignettes --timings GenomicScores_2.4.0.tar.gz StartedAt: 2021-10-14 23:39:52 -0400 (Thu, 14 Oct 2021) EndedAt: 2021-10-14 23:46:15 -0400 (Thu, 14 Oct 2021) EllapsedTime: 383.6 seconds RetCode: 0 Status: OK CheckDir: GenomicScores.Rcheck Warnings: 0