Package: GenomicScores Version: 2.4.0 Command: /Library/Frameworks/R.framework/Versions/Current/Resources/bin/R CMD INSTALL GenomicScores StartedAt: 2021-10-14 09:05:13 -0400 (Thu, 14 Oct 2021) EndedAt: 2021-10-14 09:06:05 -0400 (Thu, 14 Oct 2021) EllapsedTime: 51.7 seconds RetCode: 0 Status: OK