Package: GenomicScores Version: 2.4.0 Command: /Library/Frameworks/R.framework/Versions/Current/Resources/bin/R CMD check --install=check:GenomicScores.install-out.txt --library=/Library/Frameworks/R.framework/Versions/Current/Resources/library --no-vignettes --timings GenomicScores_2.4.0.tar.gz StartedAt: 2021-10-14 19:27:38 -0400 (Thu, 14 Oct 2021) EndedAt: 2021-10-14 19:32:22 -0400 (Thu, 14 Oct 2021) EllapsedTime: 284.1 seconds RetCode: 0 Status: OK CheckDir: GenomicScores.Rcheck Warnings: 0