Package: GeneMeta Version: 1.64.0 Command: rm -rf GeneMeta.buildbin-libdir && mkdir GeneMeta.buildbin-libdir && C:\Users\biocbuild\bbs-3.13-bioc\R\bin\R.exe CMD INSTALL --merge-multiarch --build --library=GeneMeta.buildbin-libdir GeneMeta_1.64.0.tar.gz StartedAt: 2021-10-15 09:29:30 -0400 (Fri, 15 Oct 2021) EndedAt: 2021-10-15 09:31:02 -0400 (Fri, 15 Oct 2021) EllapsedTime: 92.0 seconds RetCode: 0 Status: OK PackageFile: GeneMeta_1.64.0.zip PackageFileSize: 2.664 MiB