Package: GeneMeta Version: 1.64.0 Command: /home/biocbuild/bbs-3.13-bioc/R/bin/R CMD INSTALL GeneMeta StartedAt: 2021-10-14 06:16:34 -0400 (Thu, 14 Oct 2021) EndedAt: 2021-10-14 06:16:48 -0400 (Thu, 14 Oct 2021) EllapsedTime: 14.7 seconds RetCode: 0 Status: OK