Package: GeneGA Version: 1.42.0 Command: rm -rf GeneGA.buildbin-libdir && mkdir GeneGA.buildbin-libdir && /Users/biocbuild/BBS/utils/build-universal.sh GeneGA_1.42.0.tar.gz /Library/Frameworks/R.framework/Versions/Current/Resources/bin/R GeneGA.buildbin-libdir StartedAt: 2021-10-15 02:31:03 -0400 (Fri, 15 Oct 2021) EndedAt: 2021-10-15 02:32:08 -0400 (Fri, 15 Oct 2021) EllapsedTime: 65.1 seconds RetCode: 0 Status: OK PackageFile: GeneGA_1.42.0.tgz PackageFileSize: 417.2 KiB