Package: GSEABenchmarkeR Version: 1.12.1 Command: /home/biocbuild/bbs-3.13-bioc/R/bin/R CMD build --keep-empty-dirs --no-resave-data GSEABenchmarkeR StartedAt: 2021-10-14 07:25:09 -0400 (Thu, 14 Oct 2021) EndedAt: 2021-10-14 07:27:19 -0400 (Thu, 14 Oct 2021) EllapsedTime: 129.8 seconds RetCode: 0 Status: OK PackageFile: GSEABenchmarkeR_1.12.1.tar.gz PackageFileSize: 599.4 KiB