Package: GOpro Version: 1.18.0 Command: /home/biocbuild/bbs-3.13-bioc/R/bin/R CMD INSTALL GOpro StartedAt: 2021-10-14 06:17:27 -0400 (Thu, 14 Oct 2021) EndedAt: 2021-10-14 06:17:59 -0400 (Thu, 14 Oct 2021) EllapsedTime: 31.8 seconds RetCode: 0 Status: OK